BEGIN:VCALENDAR
VERSION:2.0
PRODID:-//VALCOURT2030 - ECPv6.15.15//NONSGML v1.0//EN
CALSCALE:GREGORIAN
METHOD:PUBLISH
X-ORIGINAL-URL:https://valcourt2030.org
X-WR-CALDESC:Évènements pour VALCOURT2030
REFRESH-INTERVAL;VALUE=DURATION:PT1H
X-Robots-Tag:noindex
X-PUBLISHED-TTL:PT1H
BEGIN:VTIMEZONE
TZID:America/New_York
BEGIN:DAYLIGHT
TZOFFSETFROM:-0500
TZOFFSETTO:-0400
TZNAME:EDT
DTSTART:20240310T070000
END:DAYLIGHT
BEGIN:STANDARD
TZOFFSETFROM:-0400
TZOFFSETTO:-0500
TZNAME:EST
DTSTART:20241103T060000
END:STANDARD
BEGIN:DAYLIGHT
TZOFFSETFROM:-0500
TZOFFSETTO:-0400
TZNAME:EDT
DTSTART:20250309T070000
END:DAYLIGHT
BEGIN:STANDARD
TZOFFSETFROM:-0400
TZOFFSETTO:-0500
TZNAME:EST
DTSTART:20251102T060000
END:STANDARD
BEGIN:DAYLIGHT
TZOFFSETFROM:-0500
TZOFFSETTO:-0400
TZNAME:EDT
DTSTART:20260308T070000
END:DAYLIGHT
BEGIN:STANDARD
TZOFFSETFROM:-0400
TZOFFSETTO:-0500
TZNAME:EST
DTSTART:20261101T060000
END:STANDARD
END:VTIMEZONE
BEGIN:VEVENT
DTSTART;TZID=America/New_York:20251202T170000
DTEND;TZID=America/New_York:20251202T203000
DTSTAMP:20260419T195123
CREATED:20251111T201323Z
LAST-MODIFIED:20251125T193248Z
UID:3123-1764694800-1764707400@valcourt2030.org
SUMMARY:Planifions la suite - Grand rendez-vous citoyen 2025
DESCRIPTION:Le 2 décembre dès 17 h au musée de l’Ingéniosité J. Armand Bombardier (1001\, av. J.-A-Bombardier – Valcourt) – Grand rendez-vous citoyen de Valcourt 2030  \n\n\n\nVenez participer à la construction de notre prochaine planification stratégique à travers une suite d’ateliers de réflexion et de création ludiques.\n\nRevenons sur nos réussites\, nos défis et créons ensemble notre vision d’avenir du Grand Valcourt!\n\n\nOuverture des portes à 16 h 45 – Brise-glace et discussion entre invités – 17 h – Animation de 17 h 30 à 20 h 30\n\n\nSuivez nos annonces sur notre page Facebook au cours des prochaines semaines pour en apprendre davantage sur cette soirée participative!\n\nLunch inclus\, places limitées et réservation obligatoire avant le 25 novembre avec ce formulaire : https://forms.gle/baV8jUkCzkUAADdd8\n\n\n\nVeuillez remplir un formulaire par participant\n\n\nPour information\, contactez-nous au 450-532-2030 ou à l’adresse valcourt2030@outlook.com !
URL:https://valcourt2030.org/evenement/planifions-la-suite-grand-rendez-vous-citoyen-2025/
LOCATION:Musée de l’ingéniosité J. Armand Bombardier\, 1001\, avenue J.-A.-Bombardier\, Valcourt\, Québec\, J0E2L0\, Canada
ATTACH;FMTTYPE=image/png:https://valcourt2030.org/wp-content/uploads/2025/11/banniere-facebook_grv25.png
ORGANIZER;CN="Valcourt 2030":MAILTO:valcourt2030@outlook.com
END:VEVENT
END:VCALENDAR