BEGIN:VCALENDAR
VERSION:2.0
PRODID:-//VALCOURT2030 - ECPv6.15.15//NONSGML v1.0//EN
CALSCALE:GREGORIAN
METHOD:PUBLISH
X-ORIGINAL-URL:https://valcourt2030.org
X-WR-CALDESC:Évènements pour VALCOURT2030
REFRESH-INTERVAL;VALUE=DURATION:PT1H
X-Robots-Tag:noindex
X-PUBLISHED-TTL:PT1H
BEGIN:VTIMEZONE
TZID:America/New_York
BEGIN:DAYLIGHT
TZOFFSETFROM:-0500
TZOFFSETTO:-0400
TZNAME:EDT
DTSTART:20240310T070000
END:DAYLIGHT
BEGIN:STANDARD
TZOFFSETFROM:-0400
TZOFFSETTO:-0500
TZNAME:EST
DTSTART:20241103T060000
END:STANDARD
BEGIN:DAYLIGHT
TZOFFSETFROM:-0500
TZOFFSETTO:-0400
TZNAME:EDT
DTSTART:20250309T070000
END:DAYLIGHT
BEGIN:STANDARD
TZOFFSETFROM:-0400
TZOFFSETTO:-0500
TZNAME:EST
DTSTART:20251102T060000
END:STANDARD
BEGIN:DAYLIGHT
TZOFFSETFROM:-0500
TZOFFSETTO:-0400
TZNAME:EDT
DTSTART:20260308T070000
END:DAYLIGHT
BEGIN:STANDARD
TZOFFSETFROM:-0400
TZOFFSETTO:-0500
TZNAME:EST
DTSTART:20261101T060000
END:STANDARD
END:VTIMEZONE
BEGIN:VEVENT
DTSTART;TZID=America/New_York:20251205T170000
DTEND;TZID=America/New_York:20251205T200000
DTSTAMP:20260419T195124
CREATED:20251125T193026Z
LAST-MODIFIED:20251203T140646Z
UID:3134-1764954000-1764964800@valcourt2030.org
SUMMARY:Un plat\, une rencontre aux saveurs mexicaines
DESCRIPTION:Début décembre\, venez vivre un moment de rencontre et d’échanges chaleureux avec Francisco et sa famille\, tout en découvrant leur culture et leurs saveurs typiquement mexicaines !\nUne belle occasion de tisser des liens\, de poser des questions et de goûter à un peu de soleil en plein hiver. \nVendredi 5 décembre 2025\nDe 17 h à 19 h\nCentre d’action bénévole – 950\, rue Saint-Joseph\, Valcourt \nInscriptions recommandées \nCette activité est offerte par Valcourt 2030. Elle est rendue possible grâce à la participation financière du gouvernement du Québec.
URL:https://valcourt2030.org/evenement/cuisine-collective-aux-saveurs-mexicaines/
LOCATION:Centre d’action bénévole Valcourt et région\, 950 Saint-Joseph\, Valcourt\, Québec\, J2G4N9\, Canada
ATTACH;FMTTYPE=image/png:https://valcourt2030.org/wp-content/uploads/2025/11/unplatunerencontre-mexique-visuel.png
ORGANIZER;CN="Valcourt 2030":MAILTO:valcourt2030@outlook.com
END:VEVENT
END:VCALENDAR