BEGIN:VCALENDAR
VERSION:2.0
PRODID:-//VALCOURT2030 - ECPv6.15.15//NONSGML v1.0//EN
CALSCALE:GREGORIAN
METHOD:PUBLISH
X-WR-CALNAME:VALCOURT2030
X-ORIGINAL-URL:https://valcourt2030.org
X-WR-CALDESC:Évènements pour VALCOURT2030
REFRESH-INTERVAL;VALUE=DURATION:PT1H
X-Robots-Tag:noindex
X-PUBLISHED-TTL:PT1H
BEGIN:VTIMEZONE
TZID:America/New_York
BEGIN:DAYLIGHT
TZOFFSETFROM:-0500
TZOFFSETTO:-0400
TZNAME:EDT
DTSTART:20240310T070000
END:DAYLIGHT
BEGIN:STANDARD
TZOFFSETFROM:-0400
TZOFFSETTO:-0500
TZNAME:EST
DTSTART:20241103T060000
END:STANDARD
BEGIN:DAYLIGHT
TZOFFSETFROM:-0500
TZOFFSETTO:-0400
TZNAME:EDT
DTSTART:20250309T070000
END:DAYLIGHT
BEGIN:STANDARD
TZOFFSETFROM:-0400
TZOFFSETTO:-0500
TZNAME:EST
DTSTART:20251102T060000
END:STANDARD
BEGIN:DAYLIGHT
TZOFFSETFROM:-0500
TZOFFSETTO:-0400
TZNAME:EDT
DTSTART:20260308T070000
END:DAYLIGHT
BEGIN:STANDARD
TZOFFSETFROM:-0400
TZOFFSETTO:-0500
TZNAME:EST
DTSTART:20261101T060000
END:STANDARD
END:VTIMEZONE
BEGIN:VEVENT
DTSTART;TZID=America/New_York:20251214T130000
DTEND;TZID=America/New_York:20251214T160000
DTSTAMP:20260419T195709
CREATED:20251103T152444Z
LAST-MODIFIED:20251120T150446Z
UID:3107-1765717200-1765728000@valcourt2030.org
SUMMARY:Temps des fêtes autour du monde
DESCRIPTION:Ohé ! Le temps des fêtes approche… Partez à la découverte des traditions du temps des fêtes autour du monde ! \nLe samedi 14 décembre\, de 13 h à 16 h\, venez célébrer la magie des fêtes avec nous au Centre communautaire de Valcourt ! \n→ Ambiance chaleureuse et plaisir garantis ! \n→ Les enfants doivent être accompagnés d’un parent. \n→ Activité gratuite et ouverte à tous : bienvenue à toutes les familles de la région de Valcourt ! \n♦ INSCRIPTIONS OBLIGATOIRES : https://forms.gle/e5L5QBNiNMyjp7Uj8 \nCette activité est offerte par Valcourt 2030 en partenariat avec le Club Opti-Jeunesse francophone de Valcourt. \nCette activité est rendue possible grâce à la participation financière du gouvernement du Québec.
URL:https://valcourt2030.org/evenement/temps-des-fetes-autour-du-monde/
LOCATION:Centre communautaire de Valcourt\, 820 Saint-Joseph\, Valcourt\, Québec\, J0E2L0\, Canada
ATTACH;FMTTYPE=image/png:https://valcourt2030.org/wp-content/uploads/2025/11/event-fb-1080-x-1080-px-noel-autour-du-monde-1.png
ORGANIZER;CN="Valcourt 2030":MAILTO:valcourt2030@outlook.com
END:VEVENT
END:VCALENDAR