BEGIN:VCALENDAR
VERSION:2.0
PRODID:-//VALCOURT2030 - ECPv6.15.15//NONSGML v1.0//EN
CALSCALE:GREGORIAN
METHOD:PUBLISH
X-WR-CALNAME:VALCOURT2030
X-ORIGINAL-URL:https://valcourt2030.org
X-WR-CALDESC:Évènements pour VALCOURT2030
REFRESH-INTERVAL;VALUE=DURATION:PT1H
X-Robots-Tag:noindex
X-PUBLISHED-TTL:PT1H
BEGIN:VTIMEZONE
TZID:America/New_York
BEGIN:DAYLIGHT
TZOFFSETFROM:-0500
TZOFFSETTO:-0400
TZNAME:EDT
DTSTART:20250309T070000
END:DAYLIGHT
BEGIN:STANDARD
TZOFFSETFROM:-0400
TZOFFSETTO:-0500
TZNAME:EST
DTSTART:20251102T060000
END:STANDARD
BEGIN:DAYLIGHT
TZOFFSETFROM:-0500
TZOFFSETTO:-0400
TZNAME:EDT
DTSTART:20260308T070000
END:DAYLIGHT
BEGIN:STANDARD
TZOFFSETFROM:-0400
TZOFFSETTO:-0500
TZNAME:EST
DTSTART:20261101T060000
END:STANDARD
BEGIN:DAYLIGHT
TZOFFSETFROM:-0500
TZOFFSETTO:-0400
TZNAME:EDT
DTSTART:20270314T070000
END:DAYLIGHT
BEGIN:STANDARD
TZOFFSETFROM:-0400
TZOFFSETTO:-0500
TZNAME:EST
DTSTART:20271107T060000
END:STANDARD
END:VTIMEZONE
BEGIN:VEVENT
DTSTART;TZID=America/New_York:20260228T130000
DTEND;TZID=America/New_York:20260228T160000
DTSTAMP:20260419T140751
CREATED:20260204T191744Z
LAST-MODIFIED:20260204T191744Z
UID:3160-1772283600-1772294400@valcourt2030.org
SUMMARY:Journée d'activités du Mois de l'histoire des Noirs 2026
DESCRIPTION:Dans le cadre du Mois de l’histoire des Noirs\, Valcourt 2030 et la Maison de la Famille Les Arbrisseaux vous invitent à vivre un après-midi de rencontres\, de création et de découvertes culturelles.\n\nAu programme :Prestations de slam avec ADAMA et ses amisPerformance et atelier de danse africaine avec KRANK et AMA du Duo DIFFOProjections de courts métragesAtelier de décoration de masques africainsDégustation de bouchées et rafraîchissements\nInscriptions obligatoires : https://forms.gle/BGFksyWY6DWvtKTi6\nÉcole secondaire l’Odyssée (900\, rue Montcalm\, Valcourt)Samedi 28 février\, de 13 h à 16 h\n\nCette activité de sensibilisation et de rapprochement interculturels est offerte gratuitement par Valcourt 2030. Elle est rendue possible grâce à la participation financière du gouvernement du Québec.
URL:https://valcourt2030.org/evenement/journee-dactivites-du-mois-de-lhistoire-des-noirs-2026/
LOCATION:École secondaire de l’Odyssée\, 900\, rue Montcalm\, Valcourt\, Québec\, J0E2L0\, Canada
ORGANIZER;CN="Valcourt 2030":MAILTO:valcourt2030@outlook.com
END:VEVENT
END:VCALENDAR