BEGIN:VCALENDAR
VERSION:2.0
PRODID:-//VALCOURT2030 - ECPv6.15.15//NONSGML v1.0//EN
CALSCALE:GREGORIAN
METHOD:PUBLISH
X-WR-CALNAME:VALCOURT2030
X-ORIGINAL-URL:https://valcourt2030.org
X-WR-CALDESC:Évènements pour VALCOURT2030
REFRESH-INTERVAL;VALUE=DURATION:PT1H
X-Robots-Tag:noindex
X-PUBLISHED-TTL:PT1H
BEGIN:VTIMEZONE
TZID:America/New_York
BEGIN:DAYLIGHT
TZOFFSETFROM:-0500
TZOFFSETTO:-0400
TZNAME:EDT
DTSTART:20250309T070000
END:DAYLIGHT
BEGIN:STANDARD
TZOFFSETFROM:-0400
TZOFFSETTO:-0500
TZNAME:EST
DTSTART:20251102T060000
END:STANDARD
BEGIN:DAYLIGHT
TZOFFSETFROM:-0500
TZOFFSETTO:-0400
TZNAME:EDT
DTSTART:20260308T070000
END:DAYLIGHT
BEGIN:STANDARD
TZOFFSETFROM:-0400
TZOFFSETTO:-0500
TZNAME:EST
DTSTART:20261101T060000
END:STANDARD
BEGIN:DAYLIGHT
TZOFFSETFROM:-0500
TZOFFSETTO:-0400
TZNAME:EDT
DTSTART:20270314T070000
END:DAYLIGHT
BEGIN:STANDARD
TZOFFSETFROM:-0400
TZOFFSETTO:-0500
TZNAME:EST
DTSTART:20271107T060000
END:STANDARD
END:VTIMEZONE
BEGIN:VEVENT
DTSTART;TZID=America/New_York:20260307T100000
DTEND;TZID=America/New_York:20260307T150000
DTSTAMP:20260419T135305
CREATED:20260218T194811Z
LAST-MODIFIED:20260218T194811Z
UID:3164-1772877600-1772895600@valcourt2030.org
SUMMARY:Mailles et récits d'ici et d'ailleurs
DESCRIPTION:  \nÀ la veille de la Journée internationale des droits des femmes et dans la foulée du grand mouvement de solidarité citoyenne Ouvrage de courage\, nous vous proposons une journée porte ouverte sous le signe de la création où le vécu de femmes de tous horizons sera au cœur des échanges.\n\nSamedi 7 mars\, de 10 h à 15 hCentre culturel Yvonne L. BombardierInscriptions obligatoires : https://forms.gle/2yyqArqh4bLDvUxe7\n\nAu programme :Initiation au tricot et crochet d’ici et d’ailleursAtelier inclusif pour les enfantsDîner et micro ouvert\n– avec la complicité des Créatives! \n\nApportez votre dîner. Breuvages réconfortants et petites douceurs seront offerts.\n\nLes créations seront ensuite assemblées de manière à réaliser de grandes couvertures qui seront remises à la Fondation Nota Bene\, instigatrice de l’initiative Ouvrage de courage dans le but de soutenir des refuges qui viennent en aide aux femmes en difficulté.\n\nCette activité de sensibilisation et de rapprochement interculturels est offerte gratuitement par Valcourt 2030. Elle est rendue possible grâce à la participation financière du gouvernement du Québec.
URL:https://valcourt2030.org/evenement/mailles-et-recits-dici-et-dailleurs/
LOCATION:Centre culturel Yvonne L. Bombardier\, 1002\, av. J.-A.-Bombardier\, Valcourt\, Québec\, J0E 2L0\, Canada
ORGANIZER;CN="Valcourt 2030":MAILTO:valcourt2030@outlook.com
END:VEVENT
END:VCALENDAR