BEGIN:VCALENDAR
VERSION:2.0
PRODID:-//VALCOURT2030 - ECPv6.15.15//NONSGML v1.0//EN
CALSCALE:GREGORIAN
METHOD:PUBLISH
X-WR-CALNAME:VALCOURT2030
X-ORIGINAL-URL:https://valcourt2030.org
X-WR-CALDESC:Évènements pour VALCOURT2030
REFRESH-INTERVAL;VALUE=DURATION:PT1H
X-Robots-Tag:noindex
X-PUBLISHED-TTL:PT1H
BEGIN:VTIMEZONE
TZID:America/New_York
BEGIN:DAYLIGHT
TZOFFSETFROM:-0500
TZOFFSETTO:-0400
TZNAME:EDT
DTSTART:20240310T070000
END:DAYLIGHT
BEGIN:STANDARD
TZOFFSETFROM:-0400
TZOFFSETTO:-0500
TZNAME:EST
DTSTART:20241103T060000
END:STANDARD
BEGIN:DAYLIGHT
TZOFFSETFROM:-0500
TZOFFSETTO:-0400
TZNAME:EDT
DTSTART:20250309T070000
END:DAYLIGHT
BEGIN:STANDARD
TZOFFSETFROM:-0400
TZOFFSETTO:-0500
TZNAME:EST
DTSTART:20251102T060000
END:STANDARD
BEGIN:DAYLIGHT
TZOFFSETFROM:-0500
TZOFFSETTO:-0400
TZNAME:EDT
DTSTART:20260308T070000
END:DAYLIGHT
BEGIN:STANDARD
TZOFFSETFROM:-0400
TZOFFSETTO:-0500
TZNAME:EST
DTSTART:20261101T060000
END:STANDARD
END:VTIMEZONE
BEGIN:VEVENT
DTSTART;TZID=America/New_York:20250202T123000
DTEND;TZID=America/New_York:20250202T133000
DTSTAMP:20260424T000117
CREATED:20250124T140027Z
LAST-MODIFIED:20250124T141640Z
UID:2859-1738499400-1738503000@valcourt2030.org
SUMMARY:Le grand Continental de Valcourt
DESCRIPTION:  \n\n\nValcourt 2030 vous propose nouveauté pour 2025 : le grand Continental de Valcourt. Il s’agit d’un rassemblement que l’équipe aimerait répéter chaque année dans des contextes différents!\n\nPour démarrer le mois de février en beauté\, nous vous lançons un rendez-vous unique à ne pas manquer dans le cadre de la Journée des MORDUS de l’hiver!\n\n« LE GRAND CONTINENTAL DE VALCOURT » \nVenez danser en famille au Rythme du Val-Country avec Aurélie Leclair et ses complices !\n\nDATEDimanche 2 février 12h30Dans le cadre de la Journée des Mordus de l’hiver\n\nLIEUSur le site extérieur du Centre culturel Yvonne L. Bombardier\n\nDÉROULEMENT12 h 30 – Vous présenter à la table d’accueil13 à 13h30 – Danse en ligne\n\nCODE VESTIMENTAIRE \nPortez tout ce que vous pouvez trouver chez vous de la couleur JAUNE « Ski-Doo » : tuques\, mitaines\, foulards\, lunettes fumées\, bottes\, manteaux\, capuchons… Vous n’avez pas de jaune à la maison ? On aura ce qu’il faut pour vous !\n\nINSCRIPTIONSPar ici pour vous inscrire : https://fondationbombardier.ticketing.veevartapp.com/tickets/view/list/mordus-de-lhiver-2-fevrier-2025\n\nPOUR PLUS DE DÉTAILS :valcourt2030.interculturel@outlook.com // 819-679-2040\n\nEn partenariat avec Le Musée de l’ingéniosité J. Armand Bombardier\, Le GRAND CONTINENTAL de Valcourt est une activité offerte gratuitement dans le cadre du projet « La réussite éducative collective » visant à favoriser la francisation et la réussite éducative\, mis en place grâce à la participation financière de R3USSIR – Éducation Emploi Estrie.\n  \n  \n 
URL:https://valcourt2030.org/evenement/le-grand-continental-de-valcourt/
LOCATION:Centre culturel Yvonne L. Bombardier\, 1002\, av. J.-A.-Bombardier\, Valcourt\, Québec\, J0E 2L0\, Canada
ORGANIZER;CN="Valcourt 2030":MAILTO:valcourt2030@outlook.com
END:VEVENT
BEGIN:VEVENT
DTSTART;TZID=America/New_York:20250216T130000
DTEND;TZID=America/New_York:20250216T160000
DTSTAMP:20260424T000117
CREATED:20250206T202106Z
LAST-MODIFIED:20250313T140557Z
UID:2872-1739710800-1739721600@valcourt2030.org
SUMMARY:Activité reportée - Journée d'activités - Mois de l'histoire des Noirs 2025
DESCRIPTION:  \n\n\n\n\nEn raison des prévisions météorologiques\, nous sommes dans l’obligation de reporter cette activité. Nouvelle date à déterminer.\n\nValcourt 2030 et BlackEstrie vous donnent rendez-vous:\n\n– DIMANCHE 16 FÉVRIER– de 13 H à 16 H– au CENTRE COMMUNAUTAIRE de Valcourt\n\nPour célébrer le MOIS DE L’HISTOIRE DES NOIRS avec nos invités spéciaux! Au menu:\n– Atelier et prestation de Djamboola avec RICH’ART– Atelier et prestation de slam avec RIZIKI– Jam musical avec RIZIKI et KING FALI– Atelier de décoration de masques africains– Dégustation de jus d’hibiscus– Dégustation de bouchées– Kiosque Quiz multiculturel animé par notre partenaire Desjardins – Caisse du Val-Saint-François\n\nACTIVITÉ GRATUITE / INSCRIPTION OBLIGATOIRE:https://forms.gle/xR1GGKUppjabmFpj9\n\nNB : L’activité s’adresse autant à la communauté des nouveaux arrivants qu’à la communauté d’accueil !\nCette activité est offerte gratuitement dans le cadre du projet « La réussite éducative collective » visant à favoriser la francisation et la réussite éducative\, mis en place grâce à la participation financière de 3 – ́ .
URL:https://valcourt2030.org/evenement/journee-dactivites-mois-de-lhistoire-des-noirs-2025/
LOCATION:Centre communautaire de Valcourt\, 820 Saint-Joseph\, Valcourt\, Québec\, J0E2L0\, Canada
END:VEVENT
END:VCALENDAR