BEGIN:VCALENDAR
VERSION:2.0
PRODID:-//VALCOURT2030 - ECPv6.15.15//NONSGML v1.0//EN
CALSCALE:GREGORIAN
METHOD:PUBLISH
X-ORIGINAL-URL:https://valcourt2030.org
X-WR-CALDESC:Évènements pour VALCOURT2030
REFRESH-INTERVAL;VALUE=DURATION:PT1H
X-Robots-Tag:noindex
X-PUBLISHED-TTL:PT1H
BEGIN:VTIMEZONE
TZID:America/New_York
BEGIN:DAYLIGHT
TZOFFSETFROM:-0500
TZOFFSETTO:-0400
TZNAME:EDT
DTSTART:20230312T070000
END:DAYLIGHT
BEGIN:STANDARD
TZOFFSETFROM:-0400
TZOFFSETTO:-0500
TZNAME:EST
DTSTART:20231105T060000
END:STANDARD
BEGIN:DAYLIGHT
TZOFFSETFROM:-0500
TZOFFSETTO:-0400
TZNAME:EDT
DTSTART:20240310T070000
END:DAYLIGHT
BEGIN:STANDARD
TZOFFSETFROM:-0400
TZOFFSETTO:-0500
TZNAME:EST
DTSTART:20241103T060000
END:STANDARD
BEGIN:DAYLIGHT
TZOFFSETFROM:-0500
TZOFFSETTO:-0400
TZNAME:EDT
DTSTART:20250309T070000
END:DAYLIGHT
BEGIN:STANDARD
TZOFFSETFROM:-0400
TZOFFSETTO:-0500
TZNAME:EST
DTSTART:20251102T060000
END:STANDARD
END:VTIMEZONE
BEGIN:VEVENT
DTSTART;TZID=America/New_York:20240608T130000
DTEND;TZID=America/New_York:20240608T200000
DTSTAMP:20260423T050553
CREATED:20240513T132722Z
LAST-MODIFIED:20240513T132722Z
UID:2640-1717851600-1717876800@valcourt2030.org
SUMMARY:La Fête des découvertes
DESCRIPTION:La Fête des nouveaux voisins est de retour\, mais avec un nouveau nom\, soit La Fête des découvertes! \nEnvie de faire de nouvelles connaissances et de vous amuser à travers différentes activités? C’est ce qu’on vous propose dans le cadre de La Fête des découvertes\, le 8 juin prochain à l’école la Chanterelle. (1100\, rue Champêtre\, Valcourt) \nSport\, musique\, arts\, animation\, jeux-questionnaires\, dégustations et souper… Le tout avec une touche interculturelle favorisant les rencontres entre la communauté d’accueil et les nouveaux arrivants ! \nAu programme : \n13 h à 16 h : Rallye jasette – À la découverte des organismes et des cultures \n13 h à 15 h : Réflexion collective sur le partage interculturel avec l’artiste Jessica Ruel \n13 h à 15 h : Match de basketball amical en compagnie de la communauté philippine \n13 h à 15 h : Création d’un oeuvre collective de zentangle avec l’aide des Créatives \n16 h à 17 h : Séance de Loteria – un « bingo » version Mexique (prix à gagner) \n17 h à 18 h 15 : Souper d’inspiration colombienne et mexicaine (réservation requise) \n18 h 30 à 19 h 30 : Musique et danse avec Balby Gadoh – Percussionniste \nComme ce fût le cas lors de la journée d’activité du Mois de l’histoire des Noirs\, les gens auront la possibilité de faire des activités à leur rythme\, en fonction de l’horaire global. Certaines activités auront lieu à des moments précis alors que d’autres se feront en continu. \nL’activité aura lieu beau temps\, mauvais temps et sera offerte sans frais. Une inscription sera cependant demandée pour le souper afin de permettre d’évaluer la quantité de nourriture nécessaire. Suivez l’événement Facebook ou le site Web de Valcourt 2030 (valcourt2030.org)\, dans la section « calendrier » pour suivre le dévoilement de la programmation! \nLa Fête des nouveaux voisins fait partie de la programmation du projet « Bienvenue dans la région de Valcourt »\, projet rendu possible grâce à la participation financière du gouvernement du Québec.
URL:https://valcourt2030.org/evenement/la-fete-des-decouvertes/
LOCATION:École primaire La Chanterelle\, Boulevard des Cyprès\, Valcourt\, Québec\, J0E2L0\, Canada
ORGANIZER;CN="Valcourt 2030":MAILTO:valcourt2030@outlook.com
END:VEVENT
END:VCALENDAR