BEGIN:VCALENDAR
VERSION:2.0
PRODID:-//VALCOURT2030 - ECPv6.15.15//NONSGML v1.0//EN
CALSCALE:GREGORIAN
METHOD:PUBLISH
X-WR-CALNAME:VALCOURT2030
X-ORIGINAL-URL:https://valcourt2030.org
X-WR-CALDESC:Évènements pour VALCOURT2030
REFRESH-INTERVAL;VALUE=DURATION:PT1H
X-Robots-Tag:noindex
X-PUBLISHED-TTL:PT1H
BEGIN:VTIMEZONE
TZID:America/New_York
BEGIN:DAYLIGHT
TZOFFSETFROM:-0500
TZOFFSETTO:-0400
TZNAME:EDT
DTSTART:20250309T070000
END:DAYLIGHT
BEGIN:STANDARD
TZOFFSETFROM:-0400
TZOFFSETTO:-0500
TZNAME:EST
DTSTART:20251102T060000
END:STANDARD
BEGIN:DAYLIGHT
TZOFFSETFROM:-0500
TZOFFSETTO:-0400
TZNAME:EDT
DTSTART:20260308T070000
END:DAYLIGHT
BEGIN:STANDARD
TZOFFSETFROM:-0400
TZOFFSETTO:-0500
TZNAME:EST
DTSTART:20261101T060000
END:STANDARD
BEGIN:DAYLIGHT
TZOFFSETFROM:-0500
TZOFFSETTO:-0400
TZNAME:EDT
DTSTART:20270314T070000
END:DAYLIGHT
BEGIN:STANDARD
TZOFFSETFROM:-0400
TZOFFSETTO:-0500
TZNAME:EST
DTSTART:20271107T060000
END:STANDARD
END:VTIMEZONE
BEGIN:VEVENT
DTSTART;TZID=America/New_York:20260327T100000
DTEND;TZID=America/New_York:20260327T150000
DTSTAMP:20260421T130321
CREATED:20260320T192554Z
LAST-MODIFIED:20260320T192554Z
UID:3195-1774605600-1774623600@valcourt2030.org
SUMMARY:Atelier de stop motion avec Érik Beck
DESCRIPTION:Vous n’avez pas pu vous libérer pour le 1er atelier de stop motion?\n\nVous étiez au 1er atelier de stop motion et vous avez trippé?\n\n\n\n\nAlors le vendredi 27 mars\, profitez de votre congé scolaire pour venir créer avec nous de 10 à 15h au Centre culturel Yvonne L. Bombardier. C’est un RDV à ne pas manquer!\n\n\nC’est quoi le stop motion? C’est tout simplement de créer l’illusion du mouvement avec des images fixes à partir de photos\, d’images et/ou de dessins\, à partir des tablettes que nous vous fournirons\, ou même à partir de vos propres cellulaires!\n\n\n\nUne foule de décors\, de personnages et d’objets seront à votre disposition et vous pourrez les mettre en scène selon les histoires que vous imaginerez.\n\n\nNous offrons la pizza! \n\n  \nSi vous avez des questions\, n’hésitez pas à contacter Virginie Valcourt Interculturel (819-679-2040 ou interculturel@valcourt2030.org). Il est important de confirmer votre présence en utilisant ce lien ( https://forms.gle/vSqGdHRPQ4soSWEU7 ) car nous devrons prévoir suffisamment de matériel et de nourriture pour tout le monde!
URL:https://valcourt2030.org/evenement/atelier-de-stop-motion-avec-erik-beck/
END:VEVENT
BEGIN:VEVENT
DTSTART;TZID=America/New_York:20260327T173000
DTEND;TZID=America/New_York:20260327T210000
DTSTAMP:20260421T130321
CREATED:20260320T191818Z
LAST-MODIFIED:20260320T191818Z
UID:3192-1774632600-1774645200@valcourt2030.org
SUMMARY:Soirée ludique - 27 mars
DESCRIPTION:Les soirées ludiques – le concept est simple : jeux\, jasette et beaucoup de fun!\n\nVous avez envie de jouer ou de faire découvrir de nouveaux jeux de société aux participants? Participez à cette soirée initiée par Étienne Martin\, un citoyen de Valcourt\, accompagné par Valcourt 2030. Il reprend notre concept qui était en pause.\n\nIl vous donne rendez-vous la bibliothèque de l’École secondaire de l’Odyssée entre 17 h 30 et 21 h! (900\, rue Montcalm – Utilisez l’entrée du secrétariat)\n\nC’est gratuit et ouvert à tous. (Les enfants doivent être accompagnés d’un adulte)\n\nVous apportez votre lunch/votre collation\, vos jeux et votre bonne humeur!\n\nNotez que pour des raisons de sécurité\, les portes seront barrées à partir de 18 h\, mais vous pourrez utiliser la sonnette pour nous avertir de votre arrivée.\n\nVous pouvez nous aider à évaluer le nombre de personnes présentes en utilisant ce formulaire d’Inscription : https://forms.gle/8MGSKjArUZ4SGzoP9
URL:https://valcourt2030.org/evenement/soiree-ludique-27-mars/
LOCATION:École secondaire de l’Odyssée\, 900\, rue Montcalm\, Valcourt\, Québec\, J0E2L0\, Canada
END:VEVENT
END:VCALENDAR