BEGIN:VCALENDAR
VERSION:2.0
PRODID:-//VALCOURT2030 - ECPv6.15.15//NONSGML v1.0//EN
CALSCALE:GREGORIAN
METHOD:PUBLISH
X-WR-CALNAME:VALCOURT2030
X-ORIGINAL-URL:https://valcourt2030.org
X-WR-CALDESC:Évènements pour VALCOURT2030
REFRESH-INTERVAL;VALUE=DURATION:PT1H
X-Robots-Tag:noindex
X-PUBLISHED-TTL:PT1H
BEGIN:VTIMEZONE
TZID:America/New_York
BEGIN:DAYLIGHT
TZOFFSETFROM:-0500
TZOFFSETTO:-0400
TZNAME:EDT
DTSTART:20240310T070000
END:DAYLIGHT
BEGIN:STANDARD
TZOFFSETFROM:-0400
TZOFFSETTO:-0500
TZNAME:EST
DTSTART:20241103T060000
END:STANDARD
BEGIN:DAYLIGHT
TZOFFSETFROM:-0500
TZOFFSETTO:-0400
TZNAME:EDT
DTSTART:20250309T070000
END:DAYLIGHT
BEGIN:STANDARD
TZOFFSETFROM:-0400
TZOFFSETTO:-0500
TZNAME:EST
DTSTART:20251102T060000
END:STANDARD
BEGIN:DAYLIGHT
TZOFFSETFROM:-0500
TZOFFSETTO:-0400
TZNAME:EDT
DTSTART:20260308T070000
END:DAYLIGHT
BEGIN:STANDARD
TZOFFSETFROM:-0400
TZOFFSETTO:-0500
TZNAME:EST
DTSTART:20261101T060000
END:STANDARD
END:VTIMEZONE
BEGIN:VEVENT
DTSTART;TZID=America/New_York:20250712T123000
DTEND;TZID=America/New_York:20250712T200000
DTSTAMP:20260419T105429
CREATED:20250619T175258Z
LAST-MODIFIED:20250619T175534Z
UID:2962-1752323400-1752350400@valcourt2030.org
SUMMARY:Journée Olympiade et maïs du monde
DESCRIPTION:Samedi 12 juillet mai\, de 12 h 30 à 20 h \nAu Ciboulot\, 900\, rue Champêtre (En cas de pluie : Gymnase de l’école La Chanterelle\, 1100 rue Champêtre) \nGrande nouvelle pour le mois de juillet : c’est le retour de notre journée des Olympiades de Valcourt. Cette année\, nous y ajoutons une touche « internationale »\, alors que nos différentes compétitions seront proposées par la communauté de nouveaux arrivants qui vous feront découvrir LEURS épreuves traditionnelles. \nCe samedi 12 juillet\, Valcourt 2030 vous donne rendez-vous au plateau sportif du Ciboulot (900\, rue Champêtre) pour vivre une journée festive ouverte à tous et toutes sous le signe de l’esprit d’équipe et de la bonne humeur ! \nDe 13 h à 17 h\, venez participer à la rencontre de nombreux travailleurs étrangers de la région de Valcourt dans le but d’en apprendre davantage sur leur culture à travers ce rassemblement amical. \nLe tout sera suivi d’un repas à thématique « Maïs du monde »\, de 17 h à 19 h\, en partenariat avec le service Place aux jeunes du Val-Saint-François. Vous y découvrirez la place de cet aliment à travers les différentes cultures. \nTout le matériel est fourni et aucune expérience n’est requise — juste l’envie d’apprendre\, de créer et de s’amuser ! \nCette activité est offerte par Valcourt 2030. \nElle est rendue possible grâce à la participation financière du gouvernement du Québec.
URL:https://valcourt2030.org/evenement/journee-olympiade-et-mais-du-monde/
LOCATION:Ciboulot (900\, rue Champêtre)\, 900\, rue Champêtre\, Valcourt\, Québec\, J0E2L0\, Canada
ORGANIZER;CN="Valcourt 2030":MAILTO:valcourt2030@outlook.com
END:VEVENT
END:VCALENDAR