BEGIN:VCALENDAR
VERSION:2.0
PRODID:-//VALCOURT2030 - ECPv6.15.15//NONSGML v1.0//EN
CALSCALE:GREGORIAN
METHOD:PUBLISH
X-WR-CALNAME:VALCOURT2030
X-ORIGINAL-URL:https://valcourt2030.org
X-WR-CALDESC:Évènements pour VALCOURT2030
REFRESH-INTERVAL;VALUE=DURATION:PT1H
X-Robots-Tag:noindex
X-PUBLISHED-TTL:PT1H
BEGIN:VTIMEZONE
TZID:America/New_York
BEGIN:DAYLIGHT
TZOFFSETFROM:-0500
TZOFFSETTO:-0400
TZNAME:EDT
DTSTART:20240310T070000
END:DAYLIGHT
BEGIN:STANDARD
TZOFFSETFROM:-0400
TZOFFSETTO:-0500
TZNAME:EST
DTSTART:20241103T060000
END:STANDARD
BEGIN:DAYLIGHT
TZOFFSETFROM:-0500
TZOFFSETTO:-0400
TZNAME:EDT
DTSTART:20250309T070000
END:DAYLIGHT
BEGIN:STANDARD
TZOFFSETFROM:-0400
TZOFFSETTO:-0500
TZNAME:EST
DTSTART:20251102T060000
END:STANDARD
BEGIN:DAYLIGHT
TZOFFSETFROM:-0500
TZOFFSETTO:-0400
TZNAME:EDT
DTSTART:20260308T070000
END:DAYLIGHT
BEGIN:STANDARD
TZOFFSETFROM:-0400
TZOFFSETTO:-0500
TZNAME:EST
DTSTART:20261101T060000
END:STANDARD
END:VTIMEZONE
BEGIN:VEVENT
DTSTART;TZID=America/New_York:20250809T100000
DTEND;TZID=America/New_York:20250809T140000
DTSTAMP:20260419T123734
CREATED:20250806T144530Z
LAST-MODIFIED:20250806T144530Z
UID:2982-1754733600-1754748000@valcourt2030.org
SUMMARY:La Fête des Découvertes 2025
DESCRIPTION:Valcourt 2030 vous invite à la Fête des découvertes : une célébration haute en couleurs pour explorer les talents\, les cultures et les passions qui animent notre belle communauté. Petits et grands y trouveront leur bonheur ! \nLes inscriptions sont gratuites : https://forms.gle/97Ki2d2Hg5puMjGi7Jeux\, ateliers créatifs\, kiosques interactifs\, surprises culinaires et musique seront au rendez-vous pour éveiller vos sens et faire de belles rencontres !Informations clés à retenir : Date : Samedi 9 août 2025 Heure : De 10 h à 14 h Lieu : École primaire la Chanterelle (1100 Rue Champêtre\, Valcourt) \nCette activité est offerte par Valcourt 2030. \nMerci à nos partenaires présents pour l’événement : Desjardins et Place aux Jeunes Val-Saint-François. \nL’activité est rendue possible grâce à la collaboration du gouvernement du Québec.
URL:https://valcourt2030.org/evenement/la-fete-des-decouvertes-2025/
LOCATION:École primaire La Chanterelle\, Boulevard des Cyprès\, Valcourt\, Québec\, J0E2L0\, Canada
ORGANIZER;CN="Valcourt 2030":MAILTO:valcourt2030@outlook.com
END:VEVENT
BEGIN:VEVENT
DTSTART;TZID=America/New_York:20250823T130000
DTEND;TZID=America/New_York:20250823T170000
DTSTAMP:20260419T123734
CREATED:20250814T161545Z
LAST-MODIFIED:20250814T161559Z
UID:2997-1755954000-1755968400@valcourt2030.org
SUMMARY:Espace interculturel Mabuhay au Festi-Val Show
DESCRIPTION:Les Philippines s’invitent au Festi-Val Show de Valcourt ! Pas besoin de billet d’avion pour faire un saut dans une autre culture. Valcourt 2030 vous accueille à son kiosque interculturel pour une immersion festive au cœur des traditions philippines. Quand ? Samedi 23 août de 13 H à 17 H Où ? Aréna de Valcourt\, 1111 boulevard des Cyprès C’est gratuit\, ouvert à tous\, et garanti sans décalage horaire Au programme : Danse entraînante ; Musique énergique ; Activités sportives traditionnelles ; De belles rencontres avec des personnes inspirantes !Cette activité est offerte par Valcourt 2030. Elle est rendue possible grâce à la collaboration du gouvernement du Québec.Beau temps\, mauvais temps\, on vous y attend avec le sourire et un vent de chaleur… tropicale!
URL:https://valcourt2030.org/evenement/espace-interculturel-mabuhay-au-festi-val-show/
LOCATION:Aréna de Valcourt\, 1111\, boulevard des Cyprès\, Valcourt\, Québec\, J0E2L0\, Canada
ORGANIZER;CN="Valcourt 2030":MAILTO:valcourt2030@outlook.com
END:VEVENT
END:VCALENDAR